BEGIN:VCALENDAR
VERSION:2.0
PRODID:-//eventon.com NONSGML v1.0//EN
CALSCALE:GREGORIAN
METHOD:PUBLISH
BEGIN:VEVENT
UID:69e73b38a6854
DTSTAMP:20260421T085416Z
DTSTART:20260423T173000Z
DTEND:20260423T200000Z
LOCATION:Online
SUMMARY:Online-Workshop Aufklärung leicht gemacht mit Vivien
DESCRIPTION:[vc_row][vc_column][vc_column_text css=&#8221;&#8221;] Wie spre
 che ich mit meinem Kind über Sex? Brauchen Kinder heute noch ein Aufkläru
 ngsgespräch? Kann ich äußere Einflüsse durch unsere Gesellschaft\,  ins
 besondere durch die Medien\,  ausgleichen? Themen: Körperliche Entwicklung
 \,  Mobbing\,  Missbrauch\,  Umgang mit Pornos\,  Gender und sexuelle Orien
 tierung. Mit viel Wissen\,  Austausch\,  Tipps\,  Links und Literatur. Für
  Eltern[..]\nhttps://orgasmic-woman.com/events/online-workshop-aufklaerung-
 leicht-gemacht/
URL:https://orgasmic-woman.com/events/online-workshop-aufklaerung-leicht-gemacht/
END:VEVENT
END:VCALENDAR