BEGIN:VCALENDAR
VERSION:2.0
PRODID:-//eventon.com NONSGML v1.0//EN
CALSCALE:GREGORIAN
METHOD:PUBLISH
BEGIN:VEVENT
UID:69e73b7c1925d
DTSTAMP:20260421T085524Z
DTSTART:20260521T060000Z
DTEND:20260521T073000Z
LOCATION:Online
SUMMARY:Online Coaching Gruppe Donnerstags 8-9.30 Uhr
DESCRIPTION:[vc_row][vc_column][vc_column_text css=&#8221;&#8221;] Du wirst
  erkennen\,  dass du mit deinen Themen nicht alleine bist! Wir stellen imme
 r wieder fest wie wertvoll für die TeilnehmerInnen an unseren Selbstliebe 
 Coaching Programmen der Austausch in der Gruppe sein kann. Die Gruppentreff
 en finden 5x wöchentlich für 1\, 5 Stunden per Zoom statt. Teilnahmegebü
 hr für alle 5[..]\nhttps://orgasmic-woman.com/events/online-coaching-grupp
 e-donnerstags-8-9-30/
URL:https://orgasmic-woman.com/events/online-coaching-gruppe-donnerstags-8-9-30/
END:VEVENT
END:VCALENDAR