BEGIN:VCALENDAR
VERSION:2.0
PRODID:-//eventon.com NONSGML v1.0//EN
CALSCALE:GREGORIAN
METHOD:PUBLISH
BEGIN:VEVENT
UID:69e73b653450c
DTSTAMP:20260421T085501Z
DTSTART:20250321T060000Z
DTEND:20250321T090000Z
LOCATION:
SUMMARY:Jahresgruppe Frau*SEIN mit Mara & Vivien Potsdam
DESCRIPTION:Im Kreis von Frauen* deinen Körper lieben\,  deine Weiblichkei
 t verehren und deine Vulvina als die Quelle deiner Kraft entdecken Wenn wir
  trotz unseres vollen Lebens und des herausfordernden Alltags mit den Theme
 n Selbstliebe\,  Weiblichkeit und Sinnlichkeit in Verbindung bleiben wollen
 \,  ist es gut uns darin gegenseitig zu unterstützen. Gemeinsam können[..
 ]\nhttps://orgasmic-woman.com/events/jahresgruppe-frau-sein-potsdam/
URL:https://orgasmic-woman.com/events/jahresgruppe-frau-sein-potsdam/
END:VEVENT
END:VCALENDAR