BEGIN:VCALENDAR
VERSION:2.0
PRODID:-//eventon.com NONSGML v1.0//EN
CALSCALE:GREGORIAN
METHOD:PUBLISH
BEGIN:VEVENT
UID:69e73b3b5be39
DTSTAMP:20260421T085419Z
DTSTART:20261128T040000Z
DTEND:20261129T050000Z
LOCATION:Berührungsraum Berlin Ackerstr. 37
SUMMARY:Orgasmic Woman Wochenend Workshop
DESCRIPTION:[vc_row][vc_column][vc_column_text css=&#8221;&#8221;] OrgasMus
 s? Wie erlebe ich meine Sexualität? Wie erweitere ich mein orgasmisches Po
 tential? Wir werden über die Geschichte unserer Sexualität sprechen – k
 ollektiv und individuell. Wir werden Wissen vermitteln zur Anatomie unserer
  Genitalien und darüber wie Lust und Erregung funktioniert. Und wir werden
  dir in praktischen Übungen zeigen wie[..]\nhttps://orgasmic-woman.com/eve
 nts/orgasmic-woman-wochenend-workshop-2/
URL:https://orgasmic-woman.com/events/orgasmic-woman-wochenend-workshop-2/
END:VEVENT
END:VCALENDAR