BEGIN:VCALENDAR
VERSION:2.0
PRODID:-//eventon.com NONSGML v1.0//EN
CALSCALE:GREGORIAN
METHOD:PUBLISH
BEGIN:VEVENT
UID:69e73b5ab7328
DTSTAMP:20260421T085450Z
DTSTART:20260613T083000Z
DTEND:20260614T150000Z
LOCATION:Berührungsraum Berlin Ackerstr. 37
SUMMARY:Paar-Workshop Orgasmic Parents mit Mara & Vivien live Juni
DESCRIPTION:[vc_row][vc_column][vc_column_text css=&#8221;&#8221;] Ein Work
 shop für (werdende) Eltern\,  die weiterhin Intimität und Sexualität leb
 en möchten Ob mit Babybauch oder mit Spielzeugchaos im Wohnzimmer: Lust\, 
  Nähe und erfüllende Sexualität müssen nicht auf der Strecke bleiben. D
 enn: Sexualität hört nicht auf\,  wenn Kinder kommen – sie verändert s
 ich. Und genau hier begleiten wir[..]\nhttps://orgasmic-woman.com/events/pa
 ar-workshop-orgasmic-parents-mit-mara-vivien-live-juni/
URL:https://orgasmic-woman.com/events/paar-workshop-orgasmic-parents-mit-mara-vivien-live-juni/
END:VEVENT
END:VCALENDAR